BEGIN:VCALENDAR
VERSION:2.0
PRODID:-// - ECPv6.6.2//NONSGML v1.0//EN
CALSCALE:GREGORIAN
METHOD:PUBLISH
X-ORIGINAL-URL:https://hhalliance.org
X-WR-CALDESC:Events for 
REFRESH-INTERVAL;VALUE=DURATION:PT1H
X-Robots-Tag:noindex
X-PUBLISHED-TTL:PT1H
BEGIN:VTIMEZONE
TZID:UTC
BEGIN:STANDARD
TZOFFSETFROM:+0000
TZOFFSETTO:+0000
TZNAME:UTC
DTSTART:20250101T000000
END:STANDARD
END:VTIMEZONE
BEGIN:VEVENT
DTSTART;TZID=UTC:20251216T100000
DTEND;TZID=UTC:20251216T120000
DTSTAMP:20260423T015448
CREATED:20251205T170344Z
LAST-MODIFIED:20251205T170344Z
UID:4889-1765879200-1765886400@hhalliance.org
SUMMARY:December CoC Stakeholder Meeting
DESCRIPTION:Stakeholder meetings are open to all Continuum of Care members and any community agency\, organization\, or individual interested in supporting the homeless population in Okaloosa and Walton counties. Join us for refreshments\, network with other area agencies\, learn about the latest resources available in our communities and share your agency news.
URL:https://hhalliance.org/event/december-coc-stakeholder-meeting/
LOCATION:Crestview City Hall\, 198 Wilson St.\, Crestview\, FL\, 32536\, United States
ORGANIZER;CN="Homelessness & Housing Alliance":MAILTO:admin@hhalliance.org
END:VEVENT
END:VCALENDAR