BEGIN:VCALENDAR
VERSION:2.0
PRODID:-// - ECPv6.6.2//NONSGML v1.0//EN
CALSCALE:GREGORIAN
METHOD:PUBLISH
X-ORIGINAL-URL:https://hhalliance.org
X-WR-CALDESC:Events for 
REFRESH-INTERVAL;VALUE=DURATION:PT1H
X-Robots-Tag:noindex
X-PUBLISHED-TTL:PT1H
BEGIN:VTIMEZONE
TZID:UTC
BEGIN:STANDARD
TZOFFSETFROM:+0000
TZOFFSETTO:+0000
TZNAME:UTC
DTSTART:20260101T000000
END:STANDARD
END:VTIMEZONE
BEGIN:VEVENT
DTSTART;VALUE=DATE:20260130
DTEND;VALUE=DATE:20260131
DTSTAMP:20260422T224618
CREATED:20260122T172139Z
LAST-MODIFIED:20260123T181348Z
UID:5199-1769731200-1769817599@hhalliance.org
SUMMARY:Point-In-Time Count
DESCRIPTION:The Okaloosa Walton Point in Time (PIT Count) is an annual census of people experiencing homelessness in our community on one night in January. \nRegister to volunteer!
URL:https://hhalliance.org/event/point-in-time-count/
END:VEVENT
END:VCALENDAR