BEGIN:VCALENDAR
VERSION:2.0
PRODID:-// - ECPv6.6.2//NONSGML v1.0//EN
CALSCALE:GREGORIAN
METHOD:PUBLISH
X-ORIGINAL-URL:https://hhalliance.org
X-WR-CALDESC:Events for 
REFRESH-INTERVAL;VALUE=DURATION:PT1H
X-Robots-Tag:noindex
X-PUBLISHED-TTL:PT1H
BEGIN:VTIMEZONE
TZID:UTC
BEGIN:STANDARD
TZOFFSETFROM:+0000
TZOFFSETTO:+0000
TZNAME:UTC
DTSTART:20250101T000000
END:STANDARD
END:VTIMEZONE
BEGIN:VEVENT
DTSTART;TZID=UTC:20251028T100000
DTEND;TZID=UTC:20251028T120000
DTSTAMP:20260422T185630
CREATED:20251015T192543Z
LAST-MODIFIED:20251015T192543Z
UID:4081-1761645600-1761652800@hhalliance.org
SUMMARY:October Stakeholder Meeting
DESCRIPTION:Stakeholder meetings are open to all Continuum of Care members and any community agency\, organization\, or individual interested in supporting the homeless population in Okaloosa and Walton Counties. Join us for refreshments\, network with other area agencies\, learn about the latest resources available in our communities and share your agency news. \nSee the full agenda here: October 2025 Stakeholder Meeting Agenda \nCan’t join in person? Join us on Zoom.
URL:https://hhalliance.org/event/october-stakeholder-meeting/
LOCATION:Walton County Board of Commissioners Conference Room\, 842 State Hwy 20 E\, Freeport\, FL\, 32439\, United States
CATEGORIES:COC meetings
ORGANIZER;CN="Homelessness & Housing Alliance":MAILTO:admin@hhalliance.org
END:VEVENT
END:VCALENDAR